BEGIN:VCALENDAR
VERSION:2.0
PRODID:-//Island Padel - ECPv6.5.0.1//NONSGML v1.0//EN
CALSCALE:GREGORIAN
METHOD:PUBLISH
X-WR-CALNAME:Island Padel
X-ORIGINAL-URL:https://islandpadel.com
X-WR-CALDESC:Events for Island Padel
REFRESH-INTERVAL;VALUE=DURATION:PT1H
X-Robots-Tag:noindex
X-PUBLISHED-TTL:PT1H
BEGIN:VTIMEZONE
TZID:UTC
BEGIN:STANDARD
TZOFFSETFROM:+0000
TZOFFSETTO:+0000
TZNAME:UTC
DTSTART:20250101T000000
END:STANDARD
END:VTIMEZONE
BEGIN:VEVENT
DTSTART;VALUE=DATE:20250614
DTEND;VALUE=DATE:20250616
DTSTAMP:20260420T110315
CREATED:20250319T105134Z
LAST-MODIFIED:20250424T105328Z
UID:3634-1749859200-1750031999@islandpadel.com
SUMMARY:LTA Padel Seniors Tour - Grade 2
DESCRIPTION:Men’s & Women’s 40+ Draw \nMen’s & Women’s 50+ Draw \nMen’s & Women’s 60+ Draw \n  \nMore details to follow\, entry opens 28th April \nLTA Padel Seniors Tour – Grade 2 – Jersey (& travel subsidy) | LTA – Tennis for Britain
URL:https://islandpadel.com/event/lta-padel-seniors-tour-grade-2/
LOCATION:Island Padel\, St Clements Golf & Sports Centre\, Jersey\, United Kingdom
CATEGORIES:Tournament
END:VEVENT
END:VCALENDAR