BEGIN:VCALENDAR
VERSION:2.0
PRODID:-//Island Padel - ECPv6.5.0.1//NONSGML v1.0//EN
CALSCALE:GREGORIAN
METHOD:PUBLISH
X-WR-CALNAME:Island Padel
X-ORIGINAL-URL:https://islandpadel.com
X-WR-CALDESC:Events for Island Padel
REFRESH-INTERVAL;VALUE=DURATION:PT1H
X-Robots-Tag:noindex
X-PUBLISHED-TTL:PT1H
BEGIN:VTIMEZONE
TZID:UTC
BEGIN:STANDARD
TZOFFSETFROM:+0000
TZOFFSETTO:+0000
TZNAME:UTC
DTSTART:20240101T000000
END:STANDARD
END:VTIMEZONE
BEGIN:VEVENT
DTSTART;TZID=UTC:20251020T090000
DTEND;TZID=UTC:20251031T130000
DTSTAMP:20260420T053405
CREATED:20250901T125416Z
LAST-MODIFIED:20250901T125416Z
UID:3683-1760950800-1761915600@islandpadel.com
SUMMARY:Autumn Half Term 2025 - Padel Camps
DESCRIPTION:Time on court runs alongside a host of other activities\, including team challenges and creative tasks. \nPlease use this link to the sign up form: \nIf you have any questions about padel camps please email juniors@islandpadel.com
URL:https://islandpadel.com/event/autumn-half-term-2025-padel-camps/
LOCATION:Island Padel\, St Clements Golf & Sports Centre\, Jersey\, United Kingdom
END:VEVENT
BEGIN:VEVENT
DTSTART;VALUE=DATE:20250804
DTEND;VALUE=DATE:20250811
DTSTAMP:20260420T053405
CREATED:20250319T111031Z
LAST-MODIFIED:20250319T111130Z
UID:3636-1754265600-1754870399@islandpadel.com
SUMMARY:FIP Bronze Tour Event - Island Padel Jersey
DESCRIPTION:We are delighted to be hosting a FIP Bronze Tour Event in early August \n  \nMore details to follow
URL:https://islandpadel.com/event/fip-bronze-tour-event-island-padel-jersey/
LOCATION:Island Padel\, St Clements Golf & Sports Centre\, Jersey\, United Kingdom
END:VEVENT
BEGIN:VEVENT
DTSTART;TZID=UTC:20250714T090000
DTEND;TZID=UTC:20250821T130000
DTSTAMP:20260420T053405
CREATED:20250319T101733Z
LAST-MODIFIED:20250319T111226Z
UID:3626-1752483600-1755781200@islandpadel.com
SUMMARY:Summer Holiday Padel Camps
DESCRIPTION:Time on court runs alongside a host of other activities\, including team challenges\, creative tasks and (weather permitting) our legendary water fights! \nWe have various camps available throughout the year. Please use this link to the sign up form: \nMay Half Term & Summer Padel Camps Sign Up \nIf you have any questions about padel camps\, please email juniors@islandpadel.com
URL:https://islandpadel.com/event/summer-holiday-padel-camps-14th-july-29th-august/
LOCATION:Island Padel\, St Clements Golf & Sports Centre\, Jersey\, United Kingdom
CATEGORIES:Padel Camps
END:VEVENT
BEGIN:VEVENT
DTSTART;VALUE=DATE:20250614
DTEND;VALUE=DATE:20250616
DTSTAMP:20260420T053405
CREATED:20250319T105134Z
LAST-MODIFIED:20250424T105328Z
UID:3634-1749859200-1750031999@islandpadel.com
SUMMARY:LTA Padel Seniors Tour - Grade 2
DESCRIPTION:Men’s & Women’s 40+ Draw \nMen’s & Women’s 50+ Draw \nMen’s & Women’s 60+ Draw \n  \nMore details to follow\, entry opens 28th April \nLTA Padel Seniors Tour – Grade 2 – Jersey (& travel subsidy) | LTA – Tennis for Britain
URL:https://islandpadel.com/event/lta-padel-seniors-tour-grade-2/
LOCATION:Island Padel\, St Clements Golf & Sports Centre\, Jersey\, United Kingdom
CATEGORIES:Tournament
END:VEVENT
BEGIN:VEVENT
DTSTART;TZID=UTC:20250526T090000
DTEND;TZID=UTC:20250530T130000
DTSTAMP:20260420T053405
CREATED:20250319T101906Z
LAST-MODIFIED:20250319T101906Z
UID:3628-1748250000-1748610000@islandpadel.com
SUMMARY:May Half Term Padel Camp
DESCRIPTION:Time on court runs alongside a host of other activities\, including team challenges\, creative tasks and (weather permitting) our legendary water fights! \nWe have various camps available throughout the year. Please use this link to the sign up form: \nMay Half Term & Summer Padel Camps Sign Up \nIf you have any questions about padel camps\, please email juniors@islandpadel.com
URL:https://islandpadel.com/event/may-half-term-padel-camp/
LOCATION:Island Padel\, St Clements Golf & Sports Centre\, Jersey\, United Kingdom
CATEGORIES:Padel Camps
END:VEVENT
BEGIN:VEVENT
DTSTART;VALUE=DATE:20250505
DTEND;VALUE=DATE:20250608
DTSTAMP:20260420T053405
CREATED:20250319T102718Z
LAST-MODIFIED:20250423T144628Z
UID:3631-1746403200-1749340799@islandpadel.com
SUMMARY:Rathbones Social League - May 2025
DESCRIPTION:The Rathbones social league runs for 3 weeks from 5th May with finals matches being played weekend of 7th June. Grab yourself a partner\, £37 per player \nLeague fully booked
URL:https://islandpadel.com/event/rathbones-social-league-may-2025/
LOCATION:Island Padel\, St Clements Golf & Sports Centre\, Jersey\, United Kingdom
CATEGORIES:Social League
END:VEVENT
BEGIN:VEVENT
DTSTART;VALUE=DATE:20250503
DTEND;VALUE=DATE:20250505
DTSTAMP:20260420T053405
CREATED:20250318T212238Z
LAST-MODIFIED:20250423T144523Z
UID:3607-1746230400-1746403199@islandpadel.com
SUMMARY:Social Tournament - Padel for All
DESCRIPTION:Padel for All Social Tournament\, over the weekend of Saturday 3rd & Sunday 4th May – and generously supported by Rathbones & Carey Olsen. \n£30 per person to enter and each pair are guaranteed 3 matches. \nTournament now full \n \n 
URL:https://islandpadel.com/event/social-tournament-padel/
LOCATION:Island Padel\, St Clements Golf & Sports Centre\, Jersey\, United Kingdom
END:VEVENT
BEGIN:VEVENT
DTSTART;TZID=UTC:20250331T090000
DTEND;TZID=UTC:20250418T130000
DTSTAMP:20260420T053405
CREATED:20240604T214057Z
LAST-MODIFIED:20250319T102900Z
UID:3318-1743411600-1744981200@islandpadel.com
SUMMARY:Easter Holiday Padel Camps
DESCRIPTION:Weekly holiday camps running Monday to Friday\, 09:00-13:00.\n\nTime on court runs alongside a host of other activities\, including team challenges\, creative tasks and (weather permitting) our legendary water-fights! \nWe have various camps available throughout the year. please use the links below to sign up. \nIf you have any questions about holiday padel camps please email juniors@islandpadel.com \nSign up for Easter 20225 padel camps \nFind out more about our Padel Camps
URL:https://islandpadel.com/event/weekly-summer-holiday-camps-3-2-2-2/
LOCATION:Island Padel\, St Clements Golf & Sports Centre\, Jersey\, United Kingdom
CATEGORIES:Padel Camps
END:VEVENT
BEGIN:VEVENT
DTSTART;TZID=UTC:20250203T090000
DTEND;TZID=UTC:20250302T130000
DTSTAMP:20260420T053405
CREATED:20240604T214004Z
LAST-MODIFIED:20240604T214023Z
UID:3315-1738573200-1740920400@islandpadel.com
SUMMARY:3 - 28 Feb: Half Term Holiday Camps
DESCRIPTION:Weekly holiday camps running Monday to Friday\, 09:00-13:00.\n\nTime on court runs alongside a host of other activities\, including team challenges\, creative tasks and (weather permitting) our legendary water-fights! \nWe have various camps available throughout the year. please use the links below to sign up. \nIf you have any questions about holiday padel camps please email juniors@islandpadel.com \nSign up for a padel camps \nFind out more about our Padel Camps
URL:https://islandpadel.com/event/weekly-summer-holiday-camps-3-2-2/
LOCATION:Island Padel\, St Clements Golf & Sports Centre\, Jersey\, United Kingdom
CATEGORIES:Padel Camps
END:VEVENT
BEGIN:VEVENT
DTSTART;TZID=UTC:20241201T090000
DTEND;TZID=UTC:20241231T130000
DTSTAMP:20260420T053405
CREATED:20240604T213837Z
LAST-MODIFIED:20240604T213837Z
UID:3313-1733043600-1735650000@islandpadel.com
SUMMARY:1 - 31 Dec: Christmas Holiday Camps
DESCRIPTION:Weekly holiday camps running Monday to Friday\, 09:00-13:00.\n\nTime on court runs alongside a host of other activities\, including team challenges\, creative tasks and (weather permitting) our legendary water-fights! \nWe have various camps available throughout the year. please use the links below to sign up. \nIf you have any questions about holiday padel camps please email juniors@islandpadel.com \nSign up for a padel camps \nFind out more about our Padel Camps
URL:https://islandpadel.com/event/weekly-summer-holiday-camps-3-2/
LOCATION:Island Padel\, St Clements Golf & Sports Centre\, Jersey\, United Kingdom
CATEGORIES:Padel Camps
END:VEVENT
BEGIN:VEVENT
DTSTART;TZID=UTC:20241020T090000
DTEND;TZID=UTC:20241101T130000
DTSTAMP:20260420T053405
CREATED:20240604T213720Z
LAST-MODIFIED:20240906T071851Z
UID:3311-1729414800-1730466000@islandpadel.com
SUMMARY:20 Oct - 1 Nov: Half Term Holiday Camps
DESCRIPTION:Weekly holiday camps running Monday to Friday\, 09:00-13:00.\n\nTime on court runs alongside a host of other activities\, including team challenges\, creative tasks and (weather permitting) our legendary water-fights! \nWe have various camps available throughout the year. please use the links below to sign up. \nIf you have any questions about holiday padel camps please email juniors@islandpadel.com \nSign up for the October 2024 Padel Camp. \nFind out more about our Padel Camps
URL:https://islandpadel.com/event/weekly-summer-holiday-camps-3/
LOCATION:Island Padel\, St Clements Golf & Sports Centre\, Jersey\, United Kingdom
CATEGORIES:Padel Camps
END:VEVENT
BEGIN:VEVENT
DTSTART;VALUE=DATE:20240928
DTEND;VALUE=DATE:20240930
DTSTAMP:20260420T053405
CREATED:20240604T213557Z
LAST-MODIFIED:20240609T091442Z
UID:3309-1727481600-1727654399@islandpadel.com
SUMMARY:28 – 29 Sep: Jersey v Guernsey held at Island Padel
DESCRIPTION:
URL:https://islandpadel.com/event/28-29-sep-jersey-v-guernsey-held-island-padel/
LOCATION:Island Padel\, St Clements Golf & Sports Centre\, Jersey\, United Kingdom
CATEGORIES:Padel Games
END:VEVENT
BEGIN:VEVENT
DTSTART;TZID=UTC:20240906T000000
DTEND;TZID=UTC:20240907T235900
DTSTAMP:20260420T053405
CREATED:20240604T212425Z
LAST-MODIFIED:20240704T101614Z
UID:3300-1725580800-1725753540@islandpadel.com
SUMMARY:6 - 8 Sept: LTA Grade 1 event held at Island Padel
DESCRIPTION:Island Padel Presents the LTA Padel National Tour Jersey. \nA weekend of padel across 6th – 8th September. \n\nMen’s and ladies 40+\nMen’s and ladies 50+\nMens and ladies open events (which includes a 10K prize fund)\n\nLooking for accommodation?\nWe are in position to offer hosted local accommodation to some visiting players for the Grade 1 tournament in Jersey Fri 6th Sep – Sun 8th Sep. \nIf you need hosted accommodation for this event\, please fill out the form and we will get back in touch with you to make arrangements. \nRequest hosted accommodation for this event.
URL:https://islandpadel.com/event/weekly-summer-holiday-camps-2/
LOCATION:Island Padel\, St Clements Golf & Sports Centre\, Jersey\, United Kingdom
CATEGORIES:Padel Games
ATTACH;FMTTYPE=image/png:https://islandpadel.com/wp-content/uploads/2024/06/Screenshot-2024-06-09-at-09.57.55.png
END:VEVENT
BEGIN:VEVENT
DTSTART;TZID=UTC:20240826T090000
DTEND;TZID=UTC:20240830T130000
DTSTAMP:20260420T053405
CREATED:20240609T090552Z
LAST-MODIFIED:20240609T091149Z
UID:3342-1724662800-1725022800@islandpadel.com
SUMMARY:26 Aug - 30 Aug: Summer Holiday Camp
DESCRIPTION:Weekly holiday camps running Monday to Friday\, 09:00-13:00.\n\nTime on court runs alongside a host of other activities\, including team challenges\, creative tasks and (weather permitting) our legendary water-fights! \nWe have various camps available throughout the year. please use the links below to sign up. \nIf you have any questions about holiday padel camps please email juniors@islandpadel.com \nSign up for a padel camps \nFind out more about our Padel Camps
URL:https://islandpadel.com/event/weekly-summer-holiday-camps-5-4/
LOCATION:Island Padel\, St Clements Golf & Sports Centre\, Jersey\, United Kingdom
CATEGORIES:Padel Camps
ATTACH;FMTTYPE=image/jpeg:https://islandpadel.com/wp-content/uploads/2024/06/summer-camp.jpg
END:VEVENT
BEGIN:VEVENT
DTSTART;TZID=UTC:20240819T090000
DTEND;TZID=UTC:20240823T130000
DTSTAMP:20260420T053405
CREATED:20240609T090534Z
LAST-MODIFIED:20240609T091132Z
UID:3340-1724058000-1724418000@islandpadel.com
SUMMARY:19 Aug - 23 Aug: Summer Holiday Camp
DESCRIPTION:Weekly holiday camps running Monday to Friday\, 09:00-13:00.\n\nTime on court runs alongside a host of other activities\, including team challenges\, creative tasks and (weather permitting) our legendary water-fights! \nWe have various camps available throughout the year. please use the links below to sign up. \nIf you have any questions about holiday padel camps please email juniors@islandpadel.com \nSign up for a padel camps \nFind out more about our Padel Camps
URL:https://islandpadel.com/event/weekly-summer-holiday-camps-5-3/
LOCATION:Island Padel\, St Clements Golf & Sports Centre\, Jersey\, United Kingdom
CATEGORIES:Padel Camps
ATTACH;FMTTYPE=image/jpeg:https://islandpadel.com/wp-content/uploads/2024/06/summer-camp.jpg
END:VEVENT
BEGIN:VEVENT
DTSTART;TZID=UTC:20240812T090000
DTEND;TZID=UTC:20240816T130000
DTSTAMP:20260420T053405
CREATED:20240609T090513Z
LAST-MODIFIED:20240609T090830Z
UID:3338-1723453200-1723813200@islandpadel.com
SUMMARY:12 Aug - 16 Aug: Summer Holiday Camp
DESCRIPTION:Weekly holiday camps running Monday to Friday\, 09:00-13:00.\n\nTime on court runs alongside a host of other activities\, including team challenges\, creative tasks and (weather permitting) our legendary water-fights! \nWe have various camps available throughout the year. please use the links below to sign up. \nIf you have any questions about holiday padel camps please email juniors@islandpadel.com \nSign up for a padel camps \nFind out more about our Padel Camps
URL:https://islandpadel.com/event/weekly-summer-holiday-camps-5-2/
LOCATION:Island Padel\, St Clements Golf & Sports Centre\, Jersey\, United Kingdom
CATEGORIES:Padel Camps
ATTACH;FMTTYPE=image/jpeg:https://islandpadel.com/wp-content/uploads/2024/06/summer-camp.jpg
END:VEVENT
BEGIN:VEVENT
DTSTART;TZID=UTC:20240805T090000
DTEND;TZID=UTC:20240809T130000
DTSTAMP:20260420T053405
CREATED:20240609T090453Z
LAST-MODIFIED:20240609T091109Z
UID:3336-1722848400-1723208400@islandpadel.com
SUMMARY:5 Aug - 9 Aug: Summer Holiday Camp
DESCRIPTION:Weekly holiday camps running Monday to Friday\, 09:00-13:00.\n\nTime on court runs alongside a host of other activities\, including team challenges\, creative tasks and (weather permitting) our legendary water-fights! \nWe have various camps available throughout the year. please use the links below to sign up. \nIf you have any questions about holiday padel camps please email juniors@islandpadel.com \nSign up for a padel camps \nFind out more about our Padel Camps
URL:https://islandpadel.com/event/weekly-summer-holiday-camps-5/
LOCATION:Island Padel\, St Clements Golf & Sports Centre\, Jersey\, United Kingdom
CATEGORIES:Padel Camps
ATTACH;FMTTYPE=image/jpeg:https://islandpadel.com/wp-content/uploads/2024/06/summer-camp.jpg
END:VEVENT
BEGIN:VEVENT
DTSTART;TZID=UTC:20240729T090000
DTEND;TZID=UTC:20240802T130000
DTSTAMP:20260420T053405
CREATED:20240609T090430Z
LAST-MODIFIED:20240609T091047Z
UID:3334-1722243600-1722603600@islandpadel.com
SUMMARY:29 July - 2 Aug: Summer Holiday Camp
DESCRIPTION:Weekly holiday camps running Monday to Friday\, 09:00-13:00.\n\nTime on court runs alongside a host of other activities\, including team challenges\, creative tasks and (weather permitting) our legendary water-fights! \nWe have various camps available throughout the year. please use the links below to sign up. \nIf you have any questions about holiday padel camps please email juniors@islandpadel.com \nSign up for a padel camps \nFind out more about our Padel Camps
URL:https://islandpadel.com/event/weekly-summer-holiday-camps-4-2/
LOCATION:Island Padel\, St Clements Golf & Sports Centre\, Jersey\, United Kingdom
CATEGORIES:Padel Camps
ATTACH;FMTTYPE=image/jpeg:https://islandpadel.com/wp-content/uploads/2024/06/summer-camp.jpg
END:VEVENT
BEGIN:VEVENT
DTSTART;TZID=UTC:20240722T090000
DTEND;TZID=UTC:20240726T130000
DTSTAMP:20260420T053405
CREATED:20240609T090405Z
LAST-MODIFIED:20240609T090642Z
UID:3332-1721638800-1721998800@islandpadel.com
SUMMARY:22 July - 26 July: Summer Holiday Camp
DESCRIPTION:Weekly holiday camps running Monday to Friday\, 09:00-13:00.\n\nTime on court runs alongside a host of other activities\, including team challenges\, creative tasks and (weather permitting) our legendary water-fights! \nWe have various camps available throughout the year. please use the links below to sign up. \nIf you have any questions about holiday padel camps please email juniors@islandpadel.com \nSign up for a padel camps \nFind out more about our Padel Camps
URL:https://islandpadel.com/event/weekly-summer-holiday-camps-4/
LOCATION:Island Padel\, St Clements Golf & Sports Centre\, Jersey\, United Kingdom
CATEGORIES:Padel Camps
ATTACH;FMTTYPE=image/jpeg:https://islandpadel.com/wp-content/uploads/2024/06/summer-camp.jpg
END:VEVENT
BEGIN:VEVENT
DTSTART;TZID=UTC:20240715T090000
DTEND;TZID=UTC:20240719T130000
DTSTAMP:20260420T053405
CREATED:20240604T211649Z
LAST-MODIFIED:20240609T090339Z
UID:3284-1721034000-1721394000@islandpadel.com
SUMMARY:15 July - 19 July: Summer Holiday Camp
DESCRIPTION:Weekly holiday camps running Monday to Friday\, 09:00-13:00.\n\nTime on court runs alongside a host of other activities\, including team challenges\, creative tasks and (weather permitting) our legendary water-fights! \nWe have various camps available throughout the year. please use the links below to sign up. \nIf you have any questions about holiday padel camps please email juniors@islandpadel.com \nSign up for a padel camps \nFind out more about our Padel Camps
URL:https://islandpadel.com/event/weekly-summer-holiday-camps/
LOCATION:Island Padel\, St Clements Golf & Sports Centre\, Jersey\, United Kingdom
CATEGORIES:Padel Camps
ATTACH;FMTTYPE=image/jpeg:https://islandpadel.com/wp-content/uploads/2024/06/summer-camp.jpg
END:VEVENT
END:VCALENDAR